BEGIN:VCALENDAR
VERSION:2.0
PRODID:-//Rocky Mountain Insight - ECPv6.15.20//NONSGML v1.0//EN
CALSCALE:GREGORIAN
METHOD:PUBLISH
X-ORIGINAL-URL:https://rockymountaininsight.org
X-WR-CALDESC:Events for Rocky Mountain Insight
REFRESH-INTERVAL;VALUE=DURATION:PT1H
X-Robots-Tag:noindex
X-PUBLISHED-TTL:PT1H
BEGIN:VTIMEZONE
TZID:America/Denver
BEGIN:DAYLIGHT
TZOFFSETFROM:-0700
TZOFFSETTO:-0600
TZNAME:MDT
DTSTART:20230312T090000
END:DAYLIGHT
BEGIN:STANDARD
TZOFFSETFROM:-0600
TZOFFSETTO:-0700
TZNAME:MST
DTSTART:20231105T080000
END:STANDARD
BEGIN:DAYLIGHT
TZOFFSETFROM:-0700
TZOFFSETTO:-0600
TZNAME:MDT
DTSTART:20240310T090000
END:DAYLIGHT
BEGIN:STANDARD
TZOFFSETFROM:-0600
TZOFFSETTO:-0700
TZNAME:MST
DTSTART:20241103T080000
END:STANDARD
BEGIN:DAYLIGHT
TZOFFSETFROM:-0700
TZOFFSETTO:-0600
TZNAME:MDT
DTSTART:20250309T090000
END:DAYLIGHT
BEGIN:STANDARD
TZOFFSETFROM:-0600
TZOFFSETTO:-0700
TZNAME:MST
DTSTART:20251102T080000
END:STANDARD
BEGIN:DAYLIGHT
TZOFFSETFROM:-0700
TZOFFSETTO:-0600
TZNAME:MDT
DTSTART:20260308T090000
END:DAYLIGHT
BEGIN:STANDARD
TZOFFSETFROM:-0600
TZOFFSETTO:-0700
TZNAME:MST
DTSTART:20261101T080000
END:STANDARD
BEGIN:DAYLIGHT
TZOFFSETFROM:-0700
TZOFFSETTO:-0600
TZNAME:MDT
DTSTART:20270314T090000
END:DAYLIGHT
BEGIN:STANDARD
TZOFFSETFROM:-0600
TZOFFSETTO:-0700
TZNAME:MST
DTSTART:20271107T080000
END:STANDARD
END:VTIMEZONE
BEGIN:VEVENT
DTSTART;TZID=America/Denver:20260419T103000
DTEND;TZID=America/Denver:20260419T113000
DTSTAMP:20260422T075323
CREATED:20260213T221502Z
LAST-MODIFIED:20260213T222447Z
UID:15876027-1776594600-1776598200@rockymountaininsight.org
SUMMARY:Dharma Kids Program
DESCRIPTION:Dharma Kids introduces children to mindfulness in a fun way that is developmentally appropriate for ages 5-10. Each class has a theme based in Buddhist ethics and wisdom\, such as loving kindness\, gratitude\, moderation\, honesty\, etc. \nWe use stories and crafts to explore the theme and lots of games\, movement\, and breathwork to build focus and encourage self-regulation. We emphasize the mind-body connection so kids understand WHY they often feel big feelings and how that affects their bodies and their behavior. \nRather than sitting for long periods of time\, quiet moments are interspersed throughout the class\, creating multiple opportunities to notice what is going on inside the body and the mind. Dharma Kids develop strategies to take good care of ALL of their emotions (even the unpleasant ones). \nEmail sarahpont2001@yahoo.com with any questions or to receive reminder emails and detailed information about each Dharma Kids class. \nIf planning to attend\, please RSVP to Sarah at sarahpont2001@yahoo.com to make sure there are enough materials for all the kids!!!
URL:https://rockymountaininsight.org/event/dharma-kids-program-3-2-2/2026-04-19/
LOCATION:RMI\, 2525 W Pikes Peak Ave\, Suite A\, Colorado Springs\, CO\, 80904\, United States
CATEGORIES:Meditation,Weekly Sit
END:VEVENT
BEGIN:VEVENT
DTSTART;TZID=America/Denver:20260419T090000
DTEND;TZID=America/Denver:20260419T100000
DTSTAMP:20260422T075323
CREATED:20250525T210440Z
LAST-MODIFIED:20250525T210440Z
UID:15875633-1776589200-1776592800@rockymountaininsight.org
SUMMARY:Sunday Morning Sitting
DESCRIPTION:We invite you to join us Sunday mornings to calm your mind and open your heart through Buddhist Vipassana meditation practice. Vipassana means “clear-seeing” or “insight” and was taught by the Buddha to help cut the root of suffering and lead practitioners towards full awakening. We begin Sunday mornings with a short walking meditation followed by a reading from one of our Dharma Teachers or Practice Leaders. We then sit for roughly 40 minutes in silent meditation. \n  \nCurrently meeting Hybrid\, In person + Zoom: https://zoom.us/j/89564157117
URL:https://rockymountaininsight.org/event/sunday-morning-sitting/2026-04-19/
LOCATION:RMI\, 2525 W Pikes Peak Ave\, Suite A\, Colorado Springs\, CO\, 80904\, United States
CATEGORIES:Meditation,Sunday Morning Weekly Sit,Weekly Sit
END:VEVENT
BEGIN:VEVENT
DTSTART;TZID=America/Denver:20260418T100000
DTEND;TZID=America/Denver:20260418T120000
DTSTAMP:20260422T075323
CREATED:20260307T163005Z
LAST-MODIFIED:20260307T164526Z
UID:15876095-1776506400-1776513600@rockymountaininsight.org
SUMMARY:Mindfulness of The Body Using Body Sweep Meditation
DESCRIPTION:An offering by David Reinberger\, Dharma Teacher. Two Saturdays\, April 18th and 25th\, 2026 from 10am to Noon MT \nMindfulness of The Body is one of the foundational teachings of the Buddha\, and body sweep meditations are a direct way to see annica (impermanence)\, a key aspect of Vipassana (insight) practice. In this two-session class we will explore methods in the tradition of Vipassana meditation master U Ba Khin. Some meditation experience is helpful but not required; participants should be prepared to sit for guided meditations ranging from 5 to 40 minutes. \nThe two sessions will be held at Rocky Mountain Insight April 18th and 25th from 10am-Noon. Suggested dana(donation) is $20\, but no one will be turned away due to lack of funds. \nWe seek to create a sangha of openness\, support\, and respect during the class and so ask that those who register set an intention to attend both sessions and actively participate in the class. \nTo register or for more information\, please contact David at rmi.david.reinberger@gmail.com
URL:https://rockymountaininsight.org/event/mindfulness-of-the-body-using-body-sweep-meditation-2/2026-04-18/
LOCATION:RMI\, 2525 W Pikes Peak Ave\, Suite A\, Colorado Springs\, CO\, 80904\, United States
CATEGORIES:Meditation,Upcoming Classes
END:VEVENT
BEGIN:VEVENT
DTSTART;TZID=America/Denver:20260415T180000
DTEND;TZID=America/Denver:20260415T190000
DTSTAMP:20260422T075323
CREATED:20230109T001512Z
LAST-MODIFIED:20251203T211104Z
UID:10001399-1776276000-1776279600@rockymountaininsight.org
SUMMARY:Wednesday Sangha Sittings and Dhamma Instruction
DESCRIPTION:Our main weekly event\, Sangha Night\, is open to all. We begin our evening with a short walking meditation to settle the body and mind followed by 20 – 30 minutes of sitting practice. Then\, our usual program follows with a Dharma talk on one of the many aspects of the Buddhist path by one of our highly qualified and experienced Dharma Teachers or Meditation Instructors. We also celebrate special programs and events on Wednesday nights\, for example: meditations on the 4 Divine Abidings every 1st Wednesday\, recitation of the 5 Precepts on Wednesdays nearest the full-moon\, Refuge Vow ceremonies\, and holiday celebrations such as Wesak. Please see our schedule for upcoming special events. We invite you to join us at Sangha Night for meditation\, Dharma\, and spiritual friendship. \nCurrently meeting Hybrid\, In person + Zoom: https://zoom.us/j/88361249390
URL:https://rockymountaininsight.org/event/wednesday-evening-sangha-sitting-and-dharma-instruction/2026-04-15/
LOCATION:RMI\, 2525 W Pikes Peak Ave\, Suite A\, Colorado Springs\, CO\, 80904\, United States
CATEGORIES:Meditation,Wednesday Night Weekly Site,Weekly Sit
END:VEVENT
BEGIN:VEVENT
DTSTART;TZID=America/Denver:20251224T180000
DTEND;TZID=America/Denver:20251224T190000
DTSTAMP:20260422T075323
CREATED:20251214T180536Z
LAST-MODIFIED:20251214T182328Z
UID:15876014-1766599200-1766602800@rockymountaininsight.org
SUMMARY:Wednesday Night Extended Sit
DESCRIPTION:Brian Lund has volunteered to lead an opportunity for an extended sit on Wednesday evening at our regular 6:00 time slot. The evening will include walking meditation\, a short inspirational reading\, and time for an extended sitting meditation time. All are invited\, both on zoom and in person to participate in the evening. Note that this event will use the regular Wednesday Zoom meeting: https://zoom.us/j/88361249390
URL:https://rockymountaininsight.org/event/wednesday-night-extended-sit/
LOCATION:RMI\, 2525 W Pikes Peak Ave\, Suite A\, Colorado Springs\, CO\, 80904\, United States
CATEGORIES:Meditation
END:VEVENT
BEGIN:VEVENT
DTSTART;VALUE=DATE:20251029
DTEND;VALUE=DATE:20251103
DTSTAMP:20260422T075323
CREATED:20250505T171132Z
LAST-MODIFIED:20250505T171132Z
UID:10001835-1761696000-1762127999@rockymountaininsight.org
SUMMARY:Fall Retreat: Living with Impermanence\, Death & Dying on the Buddhist Path
DESCRIPTION:Join Matt Hane\, RMI Dharma Teacher\, for a 5 Day silent retreat at Benet Hill Monastery located northeast of Colorado Springs to practice in person in a beautiful location surrounded by deer\, birds\, and open space. The theme of the retreat is\, “Living with Impermanence\, Death & Dying on the Buddhist Path.” \nWe will take time to deepen our mediation practice and offer ourselves an opportunity to find peace\, rest\, and community in noble silence. The retreat will offer long periods of walking and sitting meditation\, along with interviews with the Retreat Leader\, Matt Hane. Matt will offer meditation instruction throughout the retreat\, along with Dharma talks each night. \nThere are several options to attend the retreat: \n\n\n\nLodging Type\nTotal Cost Per Person\n50% Deposit\n(due by 08/29/25)\n\n\nShared Double Room\n$600.00\n$300.00\n\n\nSingle Room\n$825.00\n$412.50\n\n\nCamping\n$375.00\n$187.50\n\n\nCommuter\n$275.00\n$137.50\n\n\n\nContact Matt Hane\, matt.hane@gmail.com\, to sign up for the retreat or to receive additional details. Limited scholarships are available for the retreat. Contact Matt for details.
URL:https://rockymountaininsight.org/event/fall-retreat-living-with-impermanence-death-dying-on-the-buddhist-path/
LOCATION:Benet Hill Monastery\, 3190 Benet Lane\, Colorado Springs\, CO\, 80921\, United States
CATEGORIES:Meditation,Retreats
END:VEVENT
BEGIN:VEVENT
DTSTART;TZID=America/Denver:20240427T103000
DTEND;TZID=America/Denver:20240427T120000
DTSTAMP:20260422T075323
CREATED:20240306T193732Z
LAST-MODIFIED:20240306T214259Z
UID:10001309-1714213800-1714219200@rockymountaininsight.org
SUMMARY:Insight Practices: A Three Session Vipassana Class
DESCRIPTION:The Three Marks of Conditioned Existence are Buddhism’s basic description of reality. They are anicca (impermanence)\, dukkha (suffering)\, and anatta (not-self). Insight into these teachings fosters a greater sense of ease and leads us to liberation. \nDrawing from classical Buddhist teachings\, the course is comprised of three mornings in which we will explore each of The Three Marks. Each session of the class features an in-depth discourse\, guided meditations\, and discussion/question/answer periods. \nThe class welcomes both experienced practitioners and people new to meditation\, although some experience is helpful. Cost is $30.00 but no one will be turned away due to lack of funds. \nReserve your spot now by sending an email to: rmi.david.reinberger@gmail.com
URL:https://rockymountaininsight.org/event/insight-practices-a-three-session-vipassana-class/2024-04-27/
LOCATION:RMI\, 2525 W Pikes Peak Ave\, Suite A\, Colorado Springs\, CO\, 80904\, United States
CATEGORIES:Meditation,Upcoming Classes
END:VEVENT
END:VCALENDAR